BEGIN:VCALENDAR
VERSION:2.0
PRODID:-//81.28.228.67//NONSGML kigkonsult.se iCalcreator 2.20//
CALSCALE:GREGORIAN
METHOD:PUBLISH
X-WR-TIMEZONE:UTC
BEGIN:VEVENT
UID:event6@globus-events.de
DTSTAMP:20260421T122155Z
CATEGORIES:Märkte
DESCRIPTION:So 12.05.2019 | Showtreff-Edendorf\nKategorie: Märkte\nICS-Link
 : http://www.globus-events.de/index.php?option=com_jem&view=event&id=6:sho
 wtreff-edendorf\n
DTSTART:20190512T080000Z
DTEND:20190512T170000Z
LOCATION: ITZEHOE-Edendorf\,Lise-Meitner-Straße\,25524 Itzehoe
SUMMARY:So 12.05.2019 | Showtreff-Edendorf
URL:http://www.globus-events.de/index.php?option=com_jem&view=event&id=6:sh
 owtreff-edendorf
END:VEVENT
END:VCALENDAR
